BEGIN:VCALENDAR
VERSION:2.0
PRODID:-//ChamberMaster//Event Calendar 2.0//EN
METHOD:PUBLISH
X-PUBLISHED-TTL:P3D
REFRESH-INTERVAL:P3D
CALSCALE:GREGORIAN
BEGIN:VEVENT
DTSTART:20200307T160000Z
DTEND:20200307T210000Z
X-MICROSOFT-CDO-ALLDAYEVENT:FALSE
SUMMARY:1st Annual Crawfish & Carshow
DESCRIPTION:1st Annual Crawfish and Car show is around the corner. Car show on Saturday March 7th from 10am-3p with music by Lance Wade Thomas and Los Roaches. It kicks off on Friday night with Entertainment from Phlip Coggins and Grammy Nominated Slim Bawb and the Fabulous Stumpgrinders. Visit www.deadfishgrill.com to purchase your Crawfish tickets or register car!!! (Friday is a kickoff and Saturday is the actual car show )\n\n\n\nStill accepting vendors (approval required) - Please contact Erica for more information elopez@deadfishgrill.com
X-ALT-DESC;FMTTYPE=text/html:<span style="background-color:rgb(255\, 255\, 255)\; color:rgb(28\, 30\, 33)\; font-family:helvetica\,arial\,sans-serif\; font-size:14px">1st Annual Crawfish and Car show is around the corner. Car show on Saturday March 7th from 10am-3p with music by Lance Wade Thomas and Los Roaches. It kicks off on Friday night with Entertainment from Phlip Coggins and Grammy Nominated Slim Bawb and the Fabulous Stumpgrinders. Visit&nbsp\;</span><a href="https://l.facebook.com/l.php?u=http%3A%2F%2Fwww.deadfishgrill.com%2F%3Ffbclid%3DIwAR2X9BMQBuxTUcqFhrHzGYF6YdKfEy5At-E5RvhokMTzU2ibSl3E26L6MZs&amp\;h=AT3y58aCAuBaRQFoSdtxTSmqKwqMhtQn8DmB8HsMTaBYHqrzAGKGH5ogrZ31lv_5QYmeAjcdtAvE_Ms3Bm1iCVxNRVH6J2ljNK-4Zeh5dvx7t40Mr2_bf8HkMh83_CeSzLgXG0uLqc41_Ji48ZUJYZ-z93Ejk8LJYrWIBQX8SAL-6rNnzmI9w7ZxthHrzrXbQHi9G8HPlfbSf0EPsFILgEHSeu7PN8W5yQ47rf_gbuRS08vOqGyjPhAo_INhU1fS5_BiBFe6uHvRF-Jx-rzAc4v44G6W9xYsXPpG2ndRJvtzfAeR7WvAtmkauHEQif4VoYtis3YhMTbpRknPt3rM30wi76yys_0XMz0ieao3z3qgeplR7gn64C5H3ljrZO9HNyiKBCu2m9I7TZIUFXTijLc-mZSvW8dE8T94DzYNPq_V6UZjlz9Ts2GjW43XhyFX2PhEZMPHBcM3hGf-4MbwppJX8O5KGGkmtWedOCEPKFMwRq8EolhJ4yPdFoQRotkSwq5cfKrJCLvbf01a6MEM-FiCPuwzXpGpqg3Td5J0hkVPlMr184xGSYFCfiINr891Ed2uGl4C5iPluhmVfjhy7gmlBih87ozkbcRkszfLczCC6wLR58phQWmwjg" rel="noopener nofollow" style="color: rgb(56\, 88\, 152)\; cursor: pointer\; text-decoration-line: none\; font-family: Helvetica\, Arial\, sans-serif\; font-size: 14px\; background-color: rgb(255\, 255\, 255)\;" target="_blank">www.deadfishgrill.com</a><span style="background-color:rgb(255\, 255\, 255)\; color:rgb(28\, 30\, 33)\; font-family:helvetica\,arial\,sans-serif\; font-size:14px">&nbsp\;to purchase your Crawfish tickets or register car!!! (Friday is a kickoff and Saturday is the actual car show )<br />\n<br />\nStill accepting vendors (approval required) - Please contact Erica for more information elopez@deadfishgrill.com</span>
LOCATION:Dead Fish Grill
UID:e.300.15376
SEQUENCE:3
DTSTAMP:20260422T085932Z
URL:https://business.beltonchamber.com/events/details/1st-annual-crawfish-carshow-15376
END:VEVENT

END:VCALENDAR
