BEGIN:VCALENDAR
VERSION:2.0
PRODID:-//ChamberMaster//Event Calendar 2.0//EN
METHOD:PUBLISH
X-PUBLISHED-TTL:P3D
REFRESH-INTERVAL:P3D
CALSCALE:GREGORIAN
BEGIN:VEVENT
DTSTART:20211118T230000Z
DTEND:20211119T020000Z
X-MICROSOFT-CDO-ALLDAYEVENT:FALSE
SUMMARY:2021 Holiday Around Town - Business After Hours
DESCRIPTION:Network with members from both Belton & Temple Chambers! Food provided by Bell County Expo Catering. Bring your business cards for a chance to win door prizes!
X-ALT-DESC;FMTTYPE=text/html:<b>Network with members from both Belton &amp\; Temple Chambers! Food provided by Bell County Expo Catering. Bring your business cards for a chance to win door prizes!</b>
LOCATION:Bell County Expo Center Banquet Room
UID:e.300.16068
SEQUENCE:3
DTSTAMP:20260421T064537Z
URL:https://business.beltonchamber.com/events/details/2021-holiday-around-town-business-after-hours-16068
END:VEVENT

END:VCALENDAR
