BEGIN:VCALENDAR
VERSION:2.0
PRODID:-//ChamberMaster//Event Calendar 2.0//EN
METHOD:PUBLISH
X-PUBLISHED-TTL:P3D
REFRESH-INTERVAL:P3D
CALSCALE:GREGORIAN
BEGIN:VEVENT
DTSTART:20210703T000000Z
DTEND:20210703T020000Z
X-MICROSOFT-CDO-ALLDAYEVENT:FALSE
SUMMARY:2021 PRCA Rodeo
DESCRIPTION:Healthcare Heroes Night
X-ALT-DESC;FMTTYPE=text/html:Healthcare Heroes Night
LOCATION:Bell County Expo Center
UID:e.300.15803
SEQUENCE:3
DTSTAMP:20260421T101904Z
URL:https://business.beltonchamber.com/events/details/2021-prca-rodeo-07-02-2021-15803
END:VEVENT

END:VCALENDAR
