BEGIN:VCALENDAR
VERSION:2.0
PRODID:-//ChamberMaster//Event Calendar 2.0//EN
METHOD:PUBLISH
X-PUBLISHED-TTL:P3D
REFRESH-INTERVAL:P3D
CALSCALE:GREGORIAN
BEGIN:VEVENT
DTSTART:20210704T000000Z
DTEND:20210704T020000Z
X-MICROSOFT-CDO-ALLDAYEVENT:FALSE
SUMMARY:2021 PRCA Rodeo
DESCRIPTION:Family Night
X-ALT-DESC;FMTTYPE=text/html:Family Night
LOCATION:Bell County Expo Center
UID:e.300.15804
SEQUENCE:3
DTSTAMP:20260421T084212Z
URL:https://business.beltonchamber.com/events/details/2021-prca-rodeo-15804
END:VEVENT

END:VCALENDAR
