BEGIN:VCALENDAR
VERSION:2.0
PRODID:-//ChamberMaster//Event Calendar 2.0//EN
METHOD:PUBLISH
X-PUBLISHED-TTL:P3D
REFRESH-INTERVAL:P3D
CALSCALE:GREGORIAN
BEGIN:VEVENT
DTSTART:20211101T150000Z
DTEND:20211101T210000Z
X-MICROSOFT-CDO-ALLDAYEVENT:FALSE
SUMMARY:2021 Spur Classic Golf Tournament
DESCRIPTION:Annual Spur Classic Golf Tournament
X-ALT-DESC;FMTTYPE=text/html:<span style="font-size:18px\;"><strong>Annual Spur Classic Golf Tournament</strong></span>
LOCATION:Wildflower Country Club 4902 Wildflower Lane Temple\, Texas
UID:e.300.16066
SEQUENCE:3
DTSTAMP:20260421T064418Z
URL:https://business.beltonchamber.com/events/details/2021-spur-classic-golf-tournament-16066
END:VEVENT

END:VCALENDAR
