BEGIN:VCALENDAR
VERSION:2.0
PRODID:-//ChamberMaster//Event Calendar 2.0//EN
METHOD:PUBLISH
X-PUBLISHED-TTL:P3D
REFRESH-INTERVAL:P3D
CALSCALE:GREGORIAN
BEGIN:VEVENT
DTSTART:20241214T160000Z
DTEND:20241214T230000Z
X-MICROSOFT-CDO-ALLDAYEVENT:FALSE
SUMMARY:A Sami Show: Arts & Crafts Market
DESCRIPTION:There is a SALE in every booth at the last Sami Arts and Crafts show before Christmas.  Come see what the buzz is all about as you browse the aisles full of home and garden d cor\, jewelry\, floral designs\, woodcrafts\, art\, candles\, gourmet foods\, boutique clothing\, fashionable accessories\, unique gifts and more! Sale in every booth!
X-ALT-DESC;FMTTYPE=text/html:<span style="font-size:18px\;"><span style="color: rgb(40\, 40\, 40)\; font-family: NotoSans-Regular\, Arial\, Verdana\, sans-serif\;">There is a SALE in every booth at the last Sami Arts and Crafts show before Christmas.&nbsp\;&nbsp\;</span><span style="color: rgb(40\, 40\, 40)\; font-family: NotoSans-Regular\, Arial\, Verdana\, sans-serif\;"><span style="color: rgb(49\, 49\, 49)\; line-height: 19px\; font-family: Arial\; background-color: rgb(244\, 244\, 244)\;">Come see what the buzz is all about as you browse the aisles full of home and garden d&eacute\;cor\, jewelry\, floral designs\, woodcrafts\, art\, candles\, gourmet foods\, boutique clothing\, fashionable accessories\, unique gifts and more! Sale in every booth!</span></span></span>
LOCATION:Cadence Bank Center 301 W. Loop 121 Belton
UID:e.300.18046
SEQUENCE:3
DTSTAMP:20260425T110752Z
URL:https://business.beltonchamber.com/events/details/a-sami-show-arts-crafts-market-18046
END:VEVENT

END:VCALENDAR
