BEGIN:VCALENDAR
VERSION:2.0
PRODID:-//ChamberMaster//Event Calendar 2.0//EN
METHOD:PUBLISH
X-PUBLISHED-TTL:P3D
REFRESH-INTERVAL:P3D
CALSCALE:GREGORIAN
BEGIN:VEVENT
DTSTART:20191019T133000Z
DTEND:20191019T170000Z
X-MICROSOFT-CDO-ALLDAYEVENT:FALSE
SUMMARY:Alzheimer's Texas Bell Co. Walk
DESCRIPTION:Why Walk? Why Donate?\n\nHave your family or friends been touched by Alzheimer's disease or a related disorder? Are you passionate about supporting families dealing with dementia? Then walk with us to support the mission of Alzheimer's Texas! Raise $50 to get a 2019 Walk Shirt!\n\nFor over two decades\, Alzheimer's Texas has hosted an annual walk to raised much-needed funds to support our mission and advance the cause. Your participation and support are essential\, and the best part is 100% of funds raised stay local!
X-ALT-DESC;FMTTYPE=text/html:<p><span style="font-family:open sans"><span style="font-size:24px"><strong>Why Walk? Why Donate?</strong></span></span><br />\nHave your family or friends been touched by Alzheimer&#39\;s disease or a related disorder? Are you passionate about supporting families dealing with dementia?&nbsp\;Then walk with us to support the mission of Alzheimer&#39\;s Texas!&nbsp\;<em>Raise $50 to get a 2019&nbsp\;Walk Shirt!</em></p>\n\n<p>For over two decades\, Alzheimer&#39\;s Texas has hosted an annual walk to raised much-needed funds to support our mission and advance the cause. Your participation and support are&nbsp\;essential\, and the best part is&nbsp\;<strong>100% of funds raised stay local</strong>!</p>\n
LOCATION:Confederate Park 700 Confederate Park Drive Belton\, TX
UID:e.300.14908
SEQUENCE:3
DTSTAMP:20260422T164401Z
URL:https://business.beltonchamber.com/events/details/alzheimer-s-texas-bell-co-walk-10-19-2019-14908
END:VEVENT

END:VCALENDAR
