BEGIN:VCALENDAR
VERSION:2.0
PRODID:-//ChamberMaster//Event Calendar 2.0//EN
METHOD:PUBLISH
X-PUBLISHED-TTL:P3D
REFRESH-INTERVAL:P3D
CALSCALE:GREGORIAN
BEGIN:VEVENT
DTSTART:20200421T230000Z
DTEND:20200422T003000Z
X-MICROSOFT-CDO-ALLDAYEVENT:FALSE
SUMMARY:Apprentice Belton Graduation
DESCRIPTION:Apprentice Belton comes to a close for another successful year!
X-ALT-DESC;FMTTYPE=text/html:Apprentice Belton comes to a close for another successful year!
LOCATION:UMHB
UID:e.300.15359
SEQUENCE:3
DTSTAMP:20260421T082404Z
URL:https://business.beltonchamber.com/events/details/apprentice-belton-graduation-15359
END:VEVENT

END:VCALENDAR
