BEGIN:VCALENDAR
VERSION:2.0
PRODID:-//ChamberMaster//Event Calendar 2.0//EN
METHOD:PUBLISH
X-PUBLISHED-TTL:P3D
REFRESH-INTERVAL:P3D
CALSCALE:GREGORIAN
BEGIN:VEVENT
DTSTART:20191012T230000Z
DTEND:20191013T030000Z
X-MICROSOFT-CDO-ALLDAYEVENT:FALSE
SUMMARY:BACK IN BLACK AC/DC Tribute Band Clements Childrens Club Benefit
DESCRIPTION:Benefiting the Clements Boys and Girls Club in Killeen\, TX.
X-ALT-DESC;FMTTYPE=text/html:Benefiting the Clements Boys and Girls Club in Killeen\, TX.&nbsp\;&nbsp\;
LOCATION:Schoepf's BBQ 702 E. Central Ave Belton\, TX 76513
UID:e.300.15146
SEQUENCE:3
DTSTAMP:20260422T152725Z
URL:https://business.beltonchamber.com/events/details/back-in-black-ac-dc-tribute-band-clements-childrens-club-benefit-15146
END:VEVENT

END:VCALENDAR
