BEGIN:VCALENDAR
VERSION:2.0
PRODID:-//ChamberMaster//Event Calendar 2.0//EN
METHOD:PUBLISH
X-PUBLISHED-TTL:P3D
REFRESH-INTERVAL:P3D
CALSCALE:GREGORIAN
BEGIN:VEVENT
DTSTART:20200703T230000Z
DTEND:20200704T040000Z
X-MICROSOFT-CDO-ALLDAYEVENT:FALSE
SUMMARY:Backyard Party at Schoepf's
DESCRIPTION:Kevin Fowler
X-ALT-DESC;FMTTYPE=text/html:Kevin Fowler
LOCATION:Schoepf's BBQ
UID:e.300.15384
SEQUENCE:3
DTSTAMP:20260422T035532Z
URL:https://business.beltonchamber.com/events/details/backyard-party-at-schoepf-s-15384
END:VEVENT

END:VCALENDAR
