BEGIN:VCALENDAR
VERSION:2.0
PRODID:-//ChamberMaster//Event Calendar 2.0//EN
METHOD:PUBLISH
X-PUBLISHED-TTL:P3D
REFRESH-INTERVAL:P3D
CALSCALE:GREGORIAN
BEGIN:VEVENT
DTSTART:20190704T230000Z
DTEND:20190705T040000Z
X-MICROSOFT-CDO-ALLDAYEVENT:FALSE
SUMMARY:Backyard Party at Schoepf's Concert & Fireworks
DESCRIPTION:
X-ALT-DESC;FMTTYPE=text/html:
LOCATION:
UID:e.300.14910
SEQUENCE:3
DTSTAMP:20260425T024437Z
URL:https://business.beltonchamber.com/events/details/backyard-party-at-schoepf-s-concert-fireworks-14910
END:VEVENT

END:VCALENDAR
