BEGIN:VCALENDAR
VERSION:2.0
PRODID:-//ChamberMaster//Event Calendar 2.0//EN
METHOD:PUBLISH
X-PUBLISHED-TTL:P3D
REFRESH-INTERVAL:P3D
CALSCALE:GREGORIAN
BEGIN:VEVENT
DTSTART:20210625T230000Z
DTEND:20210626T010000Z
X-MICROSOFT-CDO-ALLDAYEVENT:FALSE
SUMMARY:Bell County Museum 2021 Summer Lecture Series featuring Frances "Fran" Garmon
DESCRIPTION:Bell County Museum 2021 Summer Lecture Series featuring Frances "Fran" Garmon\n\n	Temple College's Women's Basketball Coach: 1962 - 1993\n	Gold Medal\, World University Games: 1979 (Head Coach)\n	Head Coach\, USA National Team: 1982\n	WBSA Lifetime Achievement Award
X-ALT-DESC;FMTTYPE=text/html:Bell County Museum 2021 Summer Lecture Series featuring Frances &quot\;Fran&quot\; Garmon\n<ul>\n	<li>Temple College&#39\;s Women&#39\;s Basketball Coach: 1962 - 1993</li>\n	<li>Gold Medal\, World University Games:&nbsp\;1979 (Head Coach)</li>\n	<li>Head Coach\, USA National Team: 1982</li>\n	<li>WBSA Lifetime Achievement Award</li>\n</ul>\n
LOCATION:Bell County Museum Carnegie Library 2nd Floor
UID:e.300.16046
SEQUENCE:3
DTSTAMP:20260421T120500Z
URL:https://business.beltonchamber.com/events/details/bell-county-museum-2021-summer-lecture-series-featuring-frances-fran-garmon-16046
END:VEVENT

END:VCALENDAR
