BEGIN:VCALENDAR
VERSION:2.0
PRODID:-//ChamberMaster//Event Calendar 2.0//EN
METHOD:PUBLISH
X-PUBLISHED-TTL:P3D
REFRESH-INTERVAL:P3D
CALSCALE:GREGORIAN
BEGIN:VEVENT
DTSTART:20201121T150000Z
DTEND:20201121T220000Z
X-MICROSOFT-CDO-ALLDAYEVENT:FALSE
SUMMARY:Belton Market Days
DESCRIPTION:Belton Market Days bring together local crafters\, artists\, food vendors and more in an indoor/outdoor experience in downtown Belton. The streets are closed off making this a fun event for the whole family. Market Days are typically held on the third Saturday of the month from 9 a.m. to 4 p.m. Changes in the schedule are posted to the Belton Market Days Facebook and Instagram page. Stick around downtown after Market Days for shopping at the many local brick and mortars\, catch a movie at The Beltonian or dine at the several restaurants downtown. We hope to see you soon!
X-ALT-DESC;FMTTYPE=text/html:<span style="color: rgb(81\, 94\, 101)\; font-family: din-next-w01-light\, din-next-w02-light\, din-next-w10-light\, sans-serif\; font-size: 20px\;">Belton Market Days bring together local crafters\, artists\, food vendors and more in an indoor/outdoor experience in downtown Belton. The streets are closed off making this a fun event for the whole family. Market Days are typically held on the third Saturday of the month from 9 a.m. to 4 p.m. Changes in the schedule are posted to the Belton Market Days Facebook and Instagram page.&nbsp\;</span><span style="color: rgb(81\, 94\, 101)\; font-family: din-next-w01-light\, din-next-w02-light\, din-next-w10-light\, sans-serif\; font-size: 20px\;">Stick around downtown after Market Days for shopping at the many local brick and mortars\, catch a movie at The Beltonian or dine at the several restaurants&nbsp\;downtown. We hope to see you soon!</span>
LOCATION:Downtown Belton
UID:e.300.15414
SEQUENCE:3
DTSTAMP:20260421T213806Z
URL:https://business.beltonchamber.com/events/details/belton-market-days-15414
END:VEVENT

END:VCALENDAR
