BEGIN:VCALENDAR
VERSION:2.0
PRODID:-//ChamberMaster//Event Calendar 2.0//EN
METHOD:PUBLISH
X-PUBLISHED-TTL:P3D
REFRESH-INTERVAL:P3D
CALSCALE:GREGORIAN
BEGIN:VEVENT
DTSTART:20190928T163000Z
DTEND:20190929T000000Z
X-MICROSOFT-CDO-ALLDAYEVENT:FALSE
SUMMARY:Belton’s Bacon\, Blues & Brews
DESCRIPTION:The City of Belton and H-E-B plus! are partnering once again for Belton's Bacon\, Blues & Brews\, a two-day event that features Texas food\, music and craft beer. \n\nThe festival will take place near the Historic Bell County Courthouse and feature live entertainment\, adult beverages\, and a bacon cook-off where the winning team takes home a cash prize.\n\n\n\nThe feature event of the day will be the bacon cook-off where teams compete with bacon inspired dishes using bacon (20 lbs. per team) donated from Belton's H-E-B plus! The overall first place winner will take home a $2\,000 cash prize\, and have their recipe promoted through the Belton H-E-B plus! Cooking Connection for two weeks after the event. Trophies will be given for Best Drink\, Best Appetizer\, and Best Entr e.  Prizes for the People's Choice and Showmanship Award will also be presented.\n\n \n\nThe cook-off is limited to 25 teams\, limit four people per team. The first 25 paid applications will be allowed to participate.\n\n\n\nSaturday will also feature:\n\n\n	1st Cavalry Jazz Band    (11:30 a.m. - 1:30 p.m.)\n	Breweries: Bold Republic\, Barrows\, Bare Arms   (11:30 a.m. - 7:00 p.m.)\n	Cook-off for the Best Bacon Inspired Dish    (Noon   6:00 p.m.)\n	Jay White & The Blues Commanders      (1:30 p.m. - 4:00 p.m.)\n	Texas Flood Band (Stevie Ray Vaughan tribute band)          (4:00 p.m. - 7:00 p.m.)
X-ALT-DESC;FMTTYPE=text/html:<p class="Default" style="text-align:justify">The City of Belton and H-E-B plus! are partnering once again for Belton&rsquo\;s Bacon\, Blues &amp\; Brews\, a two-day event that features Texas food\, music and craft beer.&nbsp\;</p>\n\n<p class="Default" style="text-align:justify">The festival will take place near the Historic Bell County Courthouse and feature live entertainment\, adult beverages\, and a bacon cook-off where the winning team takes home a cash prize.<br />\n<br />\nThe feature event of the day will be the bacon cook-off where teams compete with bacon inspired dishes using bacon (20 lbs. per team) donated from Belton&rsquo\;s H-E-B plus! The overall first place winner will take home a $2\,000 cash prize\, and have their recipe promoted through the Belton H-E-B plus! Cooking Connection for two weeks after the event. Trophies will be given for Best Drink\, Best Appetizer\, and Best Entr&eacute\;e.&nbsp\; Prizes for the People&rsquo\;s Choice and Showmanship Award will also be presented.<br />\n&nbsp\;<br />\n<span style="font-family:calibri\,sans-serif\;"><span style="font-size:11.0pt\;">The cook-off is limited to 25 teams\, limit four people per team. The first 25 paid applications will be allowed to participate.</span></span><br />\n<br />\nSaturday will also feature:</p>\n\n<ul>\n	<li>1st Cavalry Jazz Band&nbsp\;&nbsp\;&nbsp\; (11:30 a.m. - 1:30 p.m.)</li>\n	<li>Breweries: Bold Republic\, Barrows\, Bare Arms&nbsp\;&nbsp\;&nbsp\;(11:30 a.m. - 7:00 p.m.)</li>\n	<li>Cook-off for the Best Bacon Inspired Dish&nbsp\;&nbsp\;&nbsp\;&nbsp\;(Noon &ndash\; 6:00 p.m.)</li>\n	<li>Jay White &amp\; The Blues Commanders &nbsp\;&nbsp\;&nbsp\;&nbsp\;&nbsp\;(1:30 p.m. - 4:00 p.m.)</li>\n	<li>Texas Flood Band (Stevie Ray Vaughan tribute band) &nbsp\;&nbsp\;&nbsp\;&nbsp\;&nbsp\;&nbsp\;&nbsp\;&nbsp\; (4:00 p.m. - 7:00 p.m.)</li>\n</ul>\n\n<p class="Default" style="text-align:justify"><o:p></o:p></p>\n
LOCATION:The festival will take place near the Historic Bell County Courthouse\, 101 E Central Ave.\, Belton.
UID:e.300.15127
SEQUENCE:3
DTSTAMP:20260422T164320Z
URL:https://business.beltonchamber.com/events/details/belton-s-bacon-blues-brews-15127
END:VEVENT

END:VCALENDAR
