BEGIN:VCALENDAR
VERSION:2.0
PRODID:-//ChamberMaster//Event Calendar 2.0//EN
METHOD:PUBLISH
X-PUBLISHED-TTL:P3D
REFRESH-INTERVAL:P3D
CALSCALE:GREGORIAN
BEGIN:VEVENT
DTSTART:20190927T220000Z
DTEND:20190928T020000Z
X-MICROSOFT-CDO-ALLDAYEVENT:FALSE
SUMMARY:Belton’s Bacon\, Blues & Brews Festival Kick-Off
DESCRIPTION:The City of Belton and H-E-B plus! are partnering once again for Belton's Bacon\, Blues & Brews\, a two-day event that features Texas food\, music and craft beer. \n\n\n\nFriday\, September 27th:\n\n	1st Cavalry Jazz Band    (5:00 - 7:00 p.m.)\n	Food Truck Ally               (5:00 - 9:00 p.m.)\n	Breweries                        (5:00 - 9:00 p.m.)\n	The Damn Torpedoes! (Tom Petty tribute band)  (7:00 - 9:00pm)
X-ALT-DESC;FMTTYPE=text/html:The City of Belton and H-E-B plus! are partnering once again for Belton&rsquo\;s Bacon\, Blues &amp\; Brews\, a two-day event that features Texas food\, music and craft beer.&nbsp\;<br />\n<br />\nFriday\, September 27th:\n<ul>\n	<li style="text-align:justify\;">1st Cavalry Jazz Band&nbsp\;&nbsp\;&nbsp\;&nbsp\;(5:00 - 7:00 p.m.)</li>\n	<li style="text-align:justify\;">Food Truck Ally&nbsp\;&nbsp\;&nbsp\;&nbsp\;&nbsp\;&nbsp\;&nbsp\;&nbsp\;&nbsp\;&nbsp\;&nbsp\;&nbsp\;&nbsp\;&nbsp\;&nbsp\;(5:00 - 9:00 p.m.)</li>\n	<li style="text-align:justify\;">Breweries&nbsp\;&nbsp\;&nbsp\;&nbsp\;&nbsp\;&nbsp\;&nbsp\;&nbsp\;&nbsp\;&nbsp\;&nbsp\;&nbsp\;&nbsp\;&nbsp\;&nbsp\;&nbsp\;&nbsp\;&nbsp\;&nbsp\;&nbsp\;&nbsp\;&nbsp\; &nbsp\;(5:00 - 9:00 p.m.)</li>\n	<li style="text-align:justify\;">The Damn Torpedoes! (Tom Petty tribute band)&nbsp\; (7:00 - 9:00pm)</li>\n</ul>\n
LOCATION:The kick-off will take place near the Historic Bell County Courthouse\, 101 E. Central Ave.\, Belton.
UID:e.300.15126
SEQUENCE:3
DTSTAMP:20260422T164651Z
URL:https://business.beltonchamber.com/events/details/belton-s-bacon-blues-brews-festival-kick-off-15126
END:VEVENT

END:VCALENDAR
