BEGIN:VCALENDAR
VERSION:2.0
PRODID:-//ChamberMaster//Event Calendar 2.0//EN
METHOD:PUBLISH
X-PUBLISHED-TTL:P3D
REFRESH-INTERVAL:P3D
CALSCALE:GREGORIAN
BEGIN:VEVENT
DTSTART:20241208T000000Z
DTEND:20241208T030000Z
X-MICROSOFT-CDO-ALLDAYEVENT:FALSE
SUMMARY:Bingo Night - Through the Eras
DESCRIPTION:CASA of Bell and Coryell Counties is excited to announce our first Bingo Night! Come take a trip with us as we travel through the eras! Tickets are available now at $50 a ticket - this includes dinner and 10 color coded cards! Extra tickets are avaliable for $20 per pad\, as well as tables for your group at $400 per table! If you are interested in promoting your business\, sponsorships are available at multiple levels!
X-ALT-DESC;FMTTYPE=text/html:<strong><span style="font-size:20px\;"><span style="color: rgb(8\, 8\, 9)\; font-family: &quot\;Segoe UI Historic&quot\;\, &quot\;Segoe UI&quot\;\, Helvetica\, Arial\, sans-serif\;">CASA of Bell and Coryell Counties is excited to announce our first Bingo Night! Come take a trip with us as we travel through the eras! Tickets are available now at $50 a ticket - this includes dinner and 10 color coded cards! Extra tickets are avaliable for $20 per pad\, as well as tables for your group at $400 per table! If you are interested in promoting your business\, sponsorships are available at multiple levels!</span></span></strong>
LOCATION:Central Texas Home Builders Association 445 E. Central Texas Expy Harker Heights
UID:e.300.18088
SEQUENCE:3
DTSTAMP:20260422T025221Z
URL:https://business.beltonchamber.com/events/details/bingo-night-through-the-eras-18088
END:VEVENT

END:VCALENDAR
