BEGIN:VCALENDAR
VERSION:2.0
PRODID:-//ChamberMaster//Event Calendar 2.0//EN
METHOD:PUBLISH
X-PUBLISHED-TTL:P3D
REFRESH-INTERVAL:P3D
CALSCALE:GREGORIAN
BEGIN:VEVENT
DTSTART;VALUE=DATE:20210923
DTEND;VALUE=DATE:20210924
TRANSP:TRANSPARENT
X-MICROSOFT-CDO-ALLDAYEVENT:TRUE
SUMMARY:Body of Christ Community Clinic Golf Classic
DESCRIPTION:Shotgun Start at 9am
X-ALT-DESC;FMTTYPE=text/html:Shotgun Start at 9am
LOCATION:Wildflower Country Club
UID:e.300.16053
SEQUENCE:3
DTSTAMP:20260421T055019Z
URL:https://business.beltonchamber.com/events/details/body-of-christ-community-clinic-golf-classic-16053
END:VEVENT

END:VCALENDAR
