BEGIN:VCALENDAR
VERSION:2.0
PRODID:-//ChamberMaster//Event Calendar 2.0//EN
METHOD:PUBLISH
X-PUBLISHED-TTL:P3D
REFRESH-INTERVAL:P3D
CALSCALE:GREGORIAN
BEGIN:VEVENT
DTSTART:20191018T230000Z
DTEND:20191019T020000Z
X-MICROSOFT-CDO-ALLDAYEVENT:FALSE
SUMMARY:Boots & BBQ Presented by Aware Central Texas w/ Jarrod Birmingham & Mason Lively
DESCRIPTION:Aware Central Texas is having it's first ever Boots & BBQ!  Come join us for some music with Jarrod Birmingham and Mason Lively!  For sponsorship or silent auction information contact Misty: mbiddick@awarecentraltexas.org
X-ALT-DESC;FMTTYPE=text/html:Aware Central Texas is having it&#39\;s first ever Boots &amp\; BBQ!&nbsp\; Come join us for some music with Jarrod Birmingham and Mason Lively!&nbsp\; For sponsorship or silent auction information contact Misty: mbiddick@awarecentraltexas.org
LOCATION:Schoepf's BBQ 702 E. Central Ave Belton\, TX 76513
UID:e.300.15147
SEQUENCE:3
DTSTAMP:20260422T152458Z
URL:https://business.beltonchamber.com/events/details/boots-bbq-presented-by-aware-central-texas-w-jarrod-birmingham-mason-lively-15147
END:VEVENT

END:VCALENDAR
