BEGIN:VCALENDAR
VERSION:2.0
PRODID:-//ChamberMaster//Event Calendar 2.0//EN
METHOD:PUBLISH
X-PUBLISHED-TTL:P3D
REFRESH-INTERVAL:P3D
CALSCALE:GREGORIAN
BEGIN:VEVENT
DTSTART:20110823T170000Z
DTEND:20110823T180000Z
X-MICROSOFT-CDO-ALLDAYEVENT:FALSE
SUMMARY:Broadcast
DESCRIPTION:Broadcast ~ will deliver high quality and relevant information that equips you to achieve business growth and development for entrepreneurial start-ups to established businesses. Training in management\, sales\, marketing and networking.\n\n	Help us help you by attending this informative and interactive session. We will show you how you can turn your Chamber membership into your greatest sales and marketing tool. You will learn about:\n\n	\n		Networking opportunities to increase business.\n	\n		Business and professional development programs.\n	\n		Visibility through sponsorships and advertising.\n	\n		Savings opportunities.\n	\n		Business news.\n	\n		Business advocacy.\n	\n		Available resources.\n\n\n	The class will also focus on Social Media programs. You can expect to learn some background on what's happening right now in social media and how to craft a simple strategy to get started online quickly.  In addition\, the class will give a brief overview of some of the most popular products online\, including Facebook\, Twitter\, LinkedIn\, blogs\, email marketing and more.\n\n	Members will learn  how to utilize the Chamber website and all its functions. The website will help  expanded social networking abilities\, a job-posting section and multimedia\, Hot Deals\, Events and much more.\n\n	The class is FREE to all members and will be held once a month.\n\n	For more information please contact Jennifer Weir or email jennifer@beltonchamber.com
X-ALT-DESC;FMTTYPE=text/html:<p>\n	<strong><em>Broadcast </em>~ </strong>will&nbsp\;deliver high quality and relevant information&nbsp\;that equips you to achieve business growth and development for entrepreneurial start-ups to established businesses.&nbsp\;Training in management\, sales\, marketing and networking<strong>.</strong></p>\n<p>\n	Help us help you by attending this informative and interactive session. We will show you how you can turn your Chamber membership into your greatest sales and marketing tool. You will learn about:</p>\n<ul>\n	<li>\n		Networking opportunities to increase business.</li>\n	<li>\n		Business and professional development programs.</li>\n	<li>\n		Visibility through sponsorships and advertising.</li>\n	<li>\n		Savings opportunities.</li>\n	<li>\n		Business news.</li>\n	<li>\n		Business advocacy.</li>\n	<li>\n		Available resources.</li>\n</ul>\n<p>\n	The class will also focus on Social Media programs. You can expect to learn some background on what&rsquo\;s happening right now in social media and how to craft a simple strategy to get started online quickly.&nbsp\; In addition\, the class will give a brief overview of some of the most popular products online\, including Facebook\, Twitter\, LinkedIn\, blogs\, email marketing and more.</p>\n<p>\n	Members will learn&nbsp\; how to utilize the Chamber website and all its functions. The website will help &nbsp\;expanded social networking abilities\, a job-posting section and multimedia\, Hot Deals\, Events and much more.</p>\n<p>\n	The class is FREE to all members and will be held once a month.</p>\n<p>\n	For more information please contact Jennifer Weir or email <a href="mailto:jennifer@beltonchamber.com">jennifer@beltonchamber.com</a></p>\n
LOCATION:Chamber of Commerce Office 412 E. Central Ave. Belton\, TX 76513
UID:e.300.5838
SEQUENCE:3
DTSTAMP:20260419T125417Z
URL:https://business.beltonchamber.com/events/details/broadcast-08-23-2011-5838
END:VEVENT

END:VCALENDAR
