BEGIN:VCALENDAR
VERSION:2.0
PRODID:-//ChamberMaster//Event Calendar 2.0//EN
METHOD:PUBLISH
X-PUBLISHED-TTL:P3D
REFRESH-INTERVAL:P3D
CALSCALE:GREGORIAN
BEGIN:VEVENT
DTSTART:20201210T231500Z
DTEND:20201211T010000Z
X-MICROSOFT-CDO-ALLDAYEVENT:FALSE
SUMMARY:Business After Hours
DESCRIPTION:Join us for an evening of cool air\, warm fire\, delicious food\, and safe networking.\n\nDecember Business After Hours is being hosted by The Gin at Nolan Creek\, The Woodhouse Day Spa\, Corona De Oro & Score's Pizza. There will be live entertainment in the common area near the fire pit.\n\nWe will be practicing social distancing and other safety precautions to ensure everyone stays safe.
X-ALT-DESC;FMTTYPE=text/html:<div class="kvgmc6g5 cxmmr5t8 oygrvhab hcukyx3x c1et5uql" style="overflow-wrap: break-word\; margin: 0px\; font-family: &quot\;Segoe UI Historic&quot\;\, &quot\;Segoe UI&quot\;\, Helvetica\, Arial\, sans-serif\; color: rgb(5\, 5\, 5)\; font-size: 15px\;">Join us for an evening of cool air\, warm fire\, delicious food\, and safe networking.</div>\n\n<div class="o9v6fnle cxmmr5t8 oygrvhab hcukyx3x c1et5uql" style="overflow-wrap: break-word\; margin: 0.5em 0px 0px\; font-family: &quot\;Segoe UI Historic&quot\;\, &quot\;Segoe UI&quot\;\, Helvetica\, Arial\, sans-serif\; color: rgb(5\, 5\, 5)\; font-size: 15px\;">December Business After Hours is being hosted by The Gin at Nolan Creek\, The Woodhouse Day Spa\, Corona De Oro &amp\; Score&#39\;s Pizza. There will be live entertainment in the common area near the fire pit.</div>\n\n<div class="o9v6fnle cxmmr5t8 oygrvhab hcukyx3x c1et5uql" style="overflow-wrap: break-word\; margin: 0.5em 0px 0px\; font-family: &quot\;Segoe UI Historic&quot\;\, &quot\;Segoe UI&quot\;\, Helvetica\, Arial\, sans-serif\; color: rgb(5\, 5\, 5)\; font-size: 15px\;">We will be practicing social distancing and other safety precautions to ensure everyone stays safe.</div>\n
LOCATION:219 S. East Street\, Belton TX
UID:e.300.15420
SEQUENCE:3
DTSTAMP:20260422T075234Z
URL:https://business.beltonchamber.com/events/details/business-after-hours-15420
END:VEVENT

END:VCALENDAR
