BEGIN:VCALENDAR
VERSION:2.0
PRODID:-//ChamberMaster//Event Calendar 2.0//EN
METHOD:PUBLISH
X-PUBLISHED-TTL:P3D
REFRESH-INTERVAL:P3D
CALSCALE:GREGORIAN
BEGIN:VEVENT
DTSTART:20240808T220000Z
DTEND:20240809T000000Z
X-MICROSOFT-CDO-ALLDAYEVENT:FALSE
SUMMARY:Business After Hours
DESCRIPTION:Join us for Business After Hours at Level 3 Coworking & Event Center! Bring your business cards for a chance to win a door prize!
X-ALT-DESC;FMTTYPE=text/html:<span style="color: rgb(5\, 5\, 5)\; font-family: &quot\;Segoe UI Historic&quot\;\, &quot\;Segoe UI&quot\;\, Helvetica\, Arial\, sans-serif\; font-size: 15px\;">Join us for Business After Hours at Level 3 Coworking &amp\; Event Center! Bring your business cards for a chance to win a door prize!</span>
LOCATION:Level 3 Coworking & Event Center 202 E Central Ave.\, Belton
UID:e.300.17988
SEQUENCE:3
DTSTAMP:20260422T100724Z
URL:https://business.beltonchamber.com/events/details/business-after-hours-17988
END:VEVENT

END:VCALENDAR
