BEGIN:VCALENDAR
VERSION:2.0
PRODID:-//ChamberMaster//Event Calendar 2.0//EN
METHOD:PUBLISH
X-PUBLISHED-TTL:P3D
REFRESH-INTERVAL:P3D
CALSCALE:GREGORIAN
BEGIN:VEVENT
DTSTART:20220120T231500Z
DTEND:20220121T010000Z
X-MICROSOFT-CDO-ALLDAYEVENT:FALSE
SUMMARY:Business After Hours - Bulldog Auto Detailing
DESCRIPTION:Join us for Business After Hours! This is a great opportunity to meet new people\, new business connections\, and network with others! Join us for good food\, fun\, and door prizes! Bring a lot of business cards!
X-ALT-DESC;FMTTYPE=text/html:Join us for Business After Hours! This is a great opportunity to meet new people\, new business connections\, and network with others! Join us for good food\, fun\, and door prizes! Bring a lot of business cards!
LOCATION:Bulldog Auto Detailing 2202 W. Adams Ave.\, Temple
UID:e.300.16085
SEQUENCE:3
DTSTAMP:20260424T055627Z
URL:https://business.beltonchamber.com/events/details/business-after-hours-bulldog-auto-detailing-16085
END:VEVENT

END:VCALENDAR
