BEGIN:VCALENDAR
VERSION:2.0
PRODID:-//ChamberMaster//Event Calendar 2.0//EN
METHOD:PUBLISH
X-PUBLISHED-TTL:P3D
REFRESH-INTERVAL:P3D
CALSCALE:GREGORIAN
BEGIN:VEVENT
DTSTART:20210819T221500Z
DTEND:20210819T234000Z
X-MICROSOFT-CDO-ALLDAYEVENT:FALSE
SUMMARY:Business After Hours- Grand Avenue Theater
DESCRIPTION:Join us at Grand Avenue Theater for August Business After Hours! Bring your business cards for a chance to win door prizes. Mix it up with us in Grand Style!
X-ALT-DESC;FMTTYPE=text/html:<span style="color: rgb(5\, 5\, 5)\; font-family: &quot\;Segoe UI Historic&quot\;\, &quot\;Segoe UI&quot\;\, Helvetica\, Arial\, sans-serif\; font-size: 15px\;">Join us at Grand Avenue Theater for August Business After Hours! Bring your business cards for a chance to win door prizes. Mix it up with us in Grand Style!</span>
LOCATION:Grand Avenue Theater 2809 Oakmark Dr. Belton
UID:e.300.16058
SEQUENCE:3
DTSTAMP:20260421T211705Z
URL:https://business.beltonchamber.com/events/details/business-after-hours-grand-avenue-theater-16058
END:VEVENT

END:VCALENDAR
