BEGIN:VCALENDAR
VERSION:2.0
PRODID:-//ChamberMaster//Event Calendar 2.0//EN
METHOD:PUBLISH
X-PUBLISHED-TTL:P3D
REFRESH-INTERVAL:P3D
CALSCALE:GREGORIAN
BEGIN:VEVENT
DTSTART:20241218T160000Z
DTEND:20241218T170000Z
X-MICROSOFT-CDO-ALLDAYEVENT:FALSE
SUMMARY:Business Bites & Insights - Sip\, Frost\, & Be Merry
DESCRIPTION:Join us for a festive and fun session of networking and creativity! This hands-on class will combine holiday cookie decorating with a relaxing wine-tasting experience\, giving you the perfect opportunity to learn new skills and connect with local professionals. Decorate\, sip\, and enjoy the holiday spirit with us at Business Bites & Insights. Don't miss out on the chance to Sip\, Frost\, & Be Merry!
X-ALT-DESC;FMTTYPE=text/html:<span style="font-size:20px\;"><span style="color: rgb(8\, 8\, 9)\; font-family: &quot\;Segoe UI Historic&quot\;\, &quot\;Segoe UI&quot\;\, Helvetica\, Arial\, sans-serif\;">Join us for a festive and fun session of networking and creativity! This hands-on class will combine holiday cookie decorating with a relaxing wine-tasting experience\, giving you the perfect opportunity to learn new skills and connect with local professionals. Decorate\, sip\, and enjoy the holiday spirit with us at Business Bites &amp\; Insights. Don&rsquo\;t miss out on the chance to Sip\, Frost\, &amp\; Be Merry!</span><span style="color: rgb(8\, 8\, 9)\; font-family: &quot\;Segoe UI Historic&quot\;\, &quot\;Segoe UI&quot\;\, Helvetica\, Arial\, sans-serif\;">&nbsp\;</span></span>
LOCATION:201 N East St. Ste C Belton\, TX 76513
UID:e.300.18075
SEQUENCE:3
DTSTAMP:20260422T025605Z
URL:https://business.beltonchamber.com/events/details/business-bites-insights-sip-frost-be-merry-18075
END:VEVENT

END:VCALENDAR
