BEGIN:VCALENDAR
VERSION:2.0
PRODID:-//ChamberMaster//Event Calendar 2.0//EN
METHOD:PUBLISH
X-PUBLISHED-TTL:P3D
REFRESH-INTERVAL:P3D
CALSCALE:GREGORIAN
BEGIN:VEVENT
DTSTART:20200225T143000Z
DTEND:20200225T153000Z
X-MICROSOFT-CDO-ALLDAYEVENT:FALSE
SUMMARY:C3- Chamber Coffee Connection
DESCRIPTION:Guest speaker\, Candace Cartwright\n\nFoster Love Bell County
X-ALT-DESC;FMTTYPE=text/html:Guest speaker\, Candace Cartwright<br />\nFoster Love Bell County
LOCATION:Foster Love Bell County 1003 N Main Street\, Belton
UID:e.300.15282
SEQUENCE:3
DTSTAMP:20260422T101342Z
URL:https://business.beltonchamber.com/events/details/c3-chamber-coffee-connection-15282
END:VEVENT

END:VCALENDAR
