BEGIN:VCALENDAR
VERSION:2.0
PRODID:-//ChamberMaster//Event Calendar 2.0//EN
METHOD:PUBLISH
X-PUBLISHED-TTL:P3D
REFRESH-INTERVAL:P3D
CALSCALE:GREGORIAN
BEGIN:VEVENT
DTSTART:20221025T133000Z
DTEND:20221025T143000Z
X-MICROSOFT-CDO-ALLDAYEVENT:FALSE
SUMMARY:C3-Chamber Coffee Connection
DESCRIPTION:C3 - Chamber Coffee Connection
X-ALT-DESC;FMTTYPE=text/html:C3 - Chamber Coffee Connection
LOCATION:Belton Police Department 711 E 2nd Ave\, Belton
UID:e.300.17784
SEQUENCE:3
DTSTAMP:20260423T145010Z
URL:https://business.beltonchamber.com/events/details/c3-chamber-coffee-connection-17784
END:VEVENT

END:VCALENDAR
