BEGIN:VCALENDAR
VERSION:2.0
PRODID:-//ChamberMaster//Event Calendar 2.0//EN
METHOD:PUBLISH
X-PUBLISHED-TTL:P3D
REFRESH-INTERVAL:P3D
CALSCALE:GREGORIAN
BEGIN:VEVENT
DTSTART:20110515T010000Z
DTEND:20110515T030000Z
X-MICROSOFT-CDO-ALLDAYEVENT:FALSE
SUMMARY:Cameron Ernst
DESCRIPTION:A new artist with a catchy piano sound! Check out his music at http://www.myspace.com/cameronernst!
X-ALT-DESC;FMTTYPE=text/html:A new artist with a catchy piano sound! Check out his music at http://www.myspace.com/cameronernst!
LOCATION:
UID:e.300.5522
SEQUENCE:3
DTSTAMP:20260424T154744Z
URL:https://business.beltonchamber.com/events/details/cameron-ernst-05-14-2011-5522
END:VEVENT

END:VCALENDAR
