BEGIN:VCALENDAR
VERSION:2.0
PRODID:-//ChamberMaster//Event Calendar 2.0//EN
METHOD:PUBLISH
X-PUBLISHED-TTL:P3D
REFRESH-INTERVAL:P3D
CALSCALE:GREGORIAN
BEGIN:VEVENT
DTSTART:20241203T210000Z
DTEND:20241203T230000Z
X-MICROSOFT-CDO-ALLDAYEVENT:FALSE
SUMMARY:Celebration Service in honor of State Representative Hugh Shine
DESCRIPTION:Program to begin at 3:30 pm\n\nRefreshments and light hor d'oeuvres will be served.
X-ALT-DESC;FMTTYPE=text/html:<strong><span style="font-size:20px\;">Program to begin at 3:30 pm<br />\nRefreshments and light hor d&#39\;oeuvres will be served.</span></strong>
LOCATION:Harris Community Center 401 N. Alexander Belton
UID:e.300.18081
SEQUENCE:3
DTSTAMP:20260422T032509Z
URL:https://business.beltonchamber.com/events/details/celebration-service-in-honor-of-state-representative-hugh-shine-18081
END:VEVENT

END:VCALENDAR
