BEGIN:VCALENDAR
VERSION:2.0
PRODID:-//ChamberMaster//Event Calendar 2.0//EN
METHOD:PUBLISH
X-PUBLISHED-TTL:P3D
REFRESH-INTERVAL:P3D
CALSCALE:GREGORIAN
BEGIN:VEVENT
DTSTART:20250410T170000Z
DTEND:20250413T230000Z
X-MICROSOFT-CDO-ALLDAYEVENT:FALSE
SUMMARY:Central Texas State Fair Spring Music Fest
DESCRIPTION:Welcome to the CTSF Spring Music Fest\, a vibrant four-day celebration of music\, laughter\, and community! Our Spring Fair brings together the best in country\, rock music\, alongside an exciting lineup of comedic acts that will keep you entertained from start to finish.\n\nJoin us for a weekend filled with unforgettable performances from top artists\, emerging talents\, and local favorites. Whether you're dancing to country hits\, vibing to smooth pop\, or rocking out to electrifying bands\, there's something for every music lover.\n\nBut the fun doesn't stop there! The festival features a lively carnival with rides\, games\, and activities for kids of all ages. Explore our diverse array of vendors offering delicious food\, unique crafts\, and festival merchandise.\n\nBring your friends and family and make lasting memories at the CTSF Spring Music Fest. We can't wait to celebrate with you!
X-ALT-DESC;FMTTYPE=text/html:<p style="margin-bottom: 0px\; color: rgb(40\, 40\, 40)\; font-family: NotoSans-Regular\, Arial\, Verdana\, sans-serif\; font-size: 16px\;"><span style="font-size:18px\;">Welcome to the CTSF Spring Music Fest\, a vibrant four-day celebration of music\, laughter\, and community! Our Spring Fair brings together the best in country\, rock music\, alongside an exciting lineup of comedic acts that will keep you entertained from start to finish.</span></p>\n\n<p style="margin-bottom: 0px\; color: rgb(40\, 40\, 40)\; font-family: NotoSans-Regular\, Arial\, Verdana\, sans-serif\; font-size: 16px\;"><span style="font-size:18px\;">Join us for a weekend filled with unforgettable performances from top artists\, emerging talents\, and local favorites. Whether you&rsquo\;re dancing to country hits\, vibing to smooth pop\, or rocking out to electrifying bands\, there&rsquo\;s something for every music lover.</span></p>\n\n<p style="margin-bottom: 0px\; color: rgb(40\, 40\, 40)\; font-family: NotoSans-Regular\, Arial\, Verdana\, sans-serif\; font-size: 16px\;"><span style="font-size:18px\;">But the fun doesn&rsquo\;t stop there! The festival features a lively carnival with rides\, games\, and activities for kids of all ages. Explore our diverse array of vendors offering delicious food\, unique crafts\, and festival merchandise.</span></p>\n\n<p style="margin-bottom: 0px\; color: rgb(40\, 40\, 40)\; font-family: NotoSans-Regular\, Arial\, Verdana\, sans-serif\; font-size: 16px\;"><span style="font-size:18px\;">Bring your friends and family and make lasting memories at the CTSF Spring Music Fest. We can&rsquo\;t wait to celebrate with you!</span></p>\n
LOCATION:Cadence Bank Center 301 West Loop 121 Belton\, TX 76513
UID:e.300.18150
SEQUENCE:3
DTSTAMP:20260421T195526Z
URL:https://business.beltonchamber.com/events/details/central-texas-state-fair-spring-music-fest-18150
END:VEVENT

END:VCALENDAR
