BEGIN:VCALENDAR
VERSION:2.0
PRODID:-//ChamberMaster//Event Calendar 2.0//EN
METHOD:PUBLISH
X-PUBLISHED-TTL:P3D
REFRESH-INTERVAL:P3D
CALSCALE:GREGORIAN
BEGIN:VEVENT
DTSTART:20210611T233000Z
DTEND:20210612T020000Z
X-MICROSOFT-CDO-ALLDAYEVENT:FALSE
SUMMARY:Central Texas Tea Party
DESCRIPTION:The Central Texas Tea Party is hosting Teresa Beckmeyer who will speak to us on The Good\, The Bad\, The Ugly of the Texas Legislature. \n\n\n\nSocial will be at 6:30 to 7:00.  We will start with the pledge to the United States Flag followed by the pledge to the Texas Flag followed by a prayer.  The speaker will then be introduced.  There will be time for questions and answers.  Ms. Beckmeyer's presesntation will be followed by the monthly business meeting.\n\n\n\nCentral Texas Tea Party is committed to education the citizens of Bell County on important issues.
X-ALT-DESC;FMTTYPE=text/html:The Central Texas Tea Party is hosting Teresa Beckmeyer who will speak to us on The Good\, The Bad\, The Ugly of the Texas Legislature.&nbsp\;<br />\n<br />\nSocial will be at 6:30 to 7:00.&nbsp\; We will start with the pledge to the United States Flag followed by the pledge to the Texas Flag followed by a prayer.&nbsp\; The speaker will then be introduced.&nbsp\; There will be time for questions and answers.&nbsp\; Ms. Beckmeyer&#39\;s presesntation will be followed by the monthly business meeting.<br />\n<br />\nCentral Texas Tea Party is committed to education the citizens of Bell County on important issues.
LOCATION:Harris Community Center 412 N. Alexander Belton\, TX 76513
UID:e.300.12163
SEQUENCE:3
DTSTAMP:20260421T103300Z
URL:https://business.beltonchamber.com/events/details/central-texas-tea-party-06-11-2021-12163
END:VEVENT

END:VCALENDAR
