BEGIN:VCALENDAR
VERSION:2.0
PRODID:-//ChamberMaster//Event Calendar 2.0//EN
METHOD:PUBLISH
X-PUBLISHED-TTL:P3D
REFRESH-INTERVAL:P3D
CALSCALE:GREGORIAN
BEGIN:VEVENT
DTSTART:20350321T210000Z
DTEND:20350321T220000Z
X-MICROSOFT-CDO-ALLDAYEVENT:FALSE
SUMMARY:Chamber Board of Directors Meeting
DESCRIPTION:
X-ALT-DESC;FMTTYPE=text/html:
LOCATION:
UID:e.300.18378
SEQUENCE:3
DTSTAMP:20260421T210040Z
URL:https://business.beltonchamber.com/events/details/chamber-board-of-directors-meeting-03-21-2035-18378
END:VEVENT

END:VCALENDAR
