BEGIN:VCALENDAR
VERSION:2.0
PRODID:-//ChamberMaster//Event Calendar 2.0//EN
METHOD:PUBLISH
X-PUBLISHED-TTL:P3D
REFRESH-INTERVAL:P3D
CALSCALE:GREGORIAN
BEGIN:VEVENT
DTSTART:20210831T133000Z
DTEND:20210831T143000Z
X-MICROSOFT-CDO-ALLDAYEVENT:FALSE
SUMMARY:Chamber Coffee Connections
DESCRIPTION:Join us for coffee at Helping Hands on Tuesday\, August 31 at 8:30 am. Learn about a very important community partner and make some connections!
X-ALT-DESC;FMTTYPE=text/html:<span style="color: rgb(5\, 5\, 5)\; font-family: &quot\;Segoe UI Historic&quot\;\, &quot\;Segoe UI&quot\;\, Helvetica\, Arial\, sans-serif\; font-size: 15px\;">Join us for coffee at Helping Hands on Tuesday\, August 31 at 8:30 am. Learn about a very important community partner and make some connections!</span>
LOCATION:2210 Holland Rd Belton\, TX 76513
UID:e.300.16056
SEQUENCE:3
DTSTAMP:20260421T072714Z
URL:https://business.beltonchamber.com/events/details/chamber-coffee-connections-16056
END:VEVENT

END:VCALENDAR
