BEGIN:VCALENDAR
VERSION:2.0
PRODID:-//ChamberMaster//Event Calendar 2.0//EN
METHOD:PUBLISH
X-PUBLISHED-TTL:P3D
REFRESH-INTERVAL:P3D
CALSCALE:GREGORIAN
BEGIN:VEVENT
DTSTART:20200208T140000Z
DTEND:20200208T200000Z
X-MICROSOFT-CDO-ALLDAYEVENT:FALSE
SUMMARY:Children's Special Needs Network Winter Conference 2020
DESCRIPTION:CSNN's annual conference is a FREE opportunity for parents and professionals to share information and experiences as well as learn ways to improve the lives of children with special needs.\n\n\n\nLunch and Childcare will be provided.\n\nDeadline for Childcare registration is Jan 31st. \n\nA separate form must be submitted to the office besides the registration on Eventbrite.\n\n\n\nPlease Contact our office for the form for your child.
X-ALT-DESC;FMTTYPE=text/html:<p>CSNN&rsquo\;s annual conference is a FREE opportunity for parents and professionals to share information and experiences as well as learn ways to improve the lives of children with special needs.<br />\n<br />\nLunch and Childcare will be provided.</p>\n\n<p>Deadline for Childcare registration is Jan 31st.&nbsp\;<br />\nA separate form must be submitted to the office besides the registration on Eventbrite.<br />\n<br />\nPlease Contact our office for the form for your child.&nbsp\;</p>\n
LOCATION:Temple Bible Church 3205 Oak View Dr Temple\,Tx 76502
UID:e.300.15292
SEQUENCE:3
DTSTAMP:20260422T112442Z
URL:https://business.beltonchamber.com/events/details/children-s-special-needs-network-winter-conference-2020-15292
END:VEVENT

END:VCALENDAR
