BEGIN:VCALENDAR
VERSION:2.0
PRODID:-//ChamberMaster//Event Calendar 2.0//EN
METHOD:PUBLISH
X-PUBLISHED-TTL:P3D
REFRESH-INTERVAL:P3D
CALSCALE:GREGORIAN
BEGIN:VEVENT
DTSTART:20191207T180000Z
DTEND:20191208T010000Z
X-MICROSOFT-CDO-ALLDAYEVENT:FALSE
SUMMARY:Christmas on the Chisholm Trail
DESCRIPTION:Join us this Christmas Season for Shopping\, food vendors\, bounce houses\, and visits with Santa!
X-ALT-DESC;FMTTYPE=text/html:<span style="color: rgb(0\, 0\, 0)\; font-family: georgia\, palatino\; font-size: 16px\;">Join us this Christmas Season for Shopping\, food vendors\, bounce houses\, and visits with Santa!</span>
LOCATION:Downtown Belton
UID:e.300.15270
SEQUENCE:3
DTSTAMP:20260422T135809Z
URL:https://business.beltonchamber.com/events/details/christmas-on-the-chisholm-trail-15270
END:VEVENT

END:VCALENDAR
