BEGIN:VCALENDAR
VERSION:2.0
PRODID:-//ChamberMaster//Event Calendar 2.0//EN
METHOD:PUBLISH
X-PUBLISHED-TTL:P3D
REFRESH-INTERVAL:P3D
CALSCALE:GREGORIAN
BEGIN:VEVENT
DTSTART:20241214T180000Z
DTEND:20241215T010000Z
X-MICROSOFT-CDO-ALLDAYEVENT:FALSE
SUMMARY:Christmas on the Chisholm Trail
DESCRIPTION:Join us for shopping\, food vendors\, music\, Kid Zone\, and visits with Santa! The Christmas parade will begin at 6pm.
X-ALT-DESC;FMTTYPE=text/html:<strong><span style="font-size:20px\;"><span style="color: rgb(0\, 0\, 0)\; font-family: Inter\;">Join us for shopping\, food vendors\, music\, Kid Zone\, and visits with Santa! The Christmas parade will begin at 6pm.</span></span></strong>
LOCATION:Historic Downtown Belton
UID:e.300.18085
SEQUENCE:3
DTSTAMP:20260422T025345Z
URL:https://business.beltonchamber.com/events/details/christmas-on-the-chisholm-trail-18085
END:VEVENT

END:VCALENDAR
