BEGIN:VCALENDAR
VERSION:2.0
PRODID:-//ChamberMaster//Event Calendar 2.0//EN
METHOD:PUBLISH
X-PUBLISHED-TTL:P3D
REFRESH-INTERVAL:P3D
CALSCALE:GREGORIAN
BEGIN:VEVENT
DTSTART:20191205T230000Z
DTEND:20191206T010000Z
X-MICROSOFT-CDO-ALLDAYEVENT:FALSE
SUMMARY:Cochran\, Blair & Potts 150th Anniversary Celebration
DESCRIPTION:Celebrating 150 years in Belton.  Come out for Food\, Drinks\, Live Music & Pictures and Santa.
X-ALT-DESC;FMTTYPE=text/html:Celebrating 150 years in Belton.&nbsp\; Come out for Food\, Drinks\, Live Music &amp\; Pictures and Santa.
LOCATION:221 E. Central Avenue Belton\, TX
UID:e.300.15269
SEQUENCE:3
DTSTAMP:20260422T124324Z
URL:https://business.beltonchamber.com/events/details/cochran-blair-potts-150th-anniversary-celebration-15269
END:VEVENT

END:VCALENDAR
