BEGIN:VCALENDAR
VERSION:2.0
PRODID:-//ChamberMaster//Event Calendar 2.0//EN
METHOD:PUBLISH
X-PUBLISHED-TTL:P3D
REFRESH-INTERVAL:P3D
CALSCALE:GREGORIAN
BEGIN:VEVENT
DTSTART:20241205T220000Z
DTEND:20241206T000000Z
X-MICROSOFT-CDO-ALLDAYEVENT:FALSE
SUMMARY:Cochran Blair & Potts ~ Photos with Santa
DESCRIPTION:Join us for our ANNUAL Santa Pictures! \n\nCapture the magic of the season with a special photo session by Steph and Chris Photography!  Enjoy delicious food hosted by Millers BBQ\, and we've got some festive beer for the adults!  Bring your family and friends for a day filled with holiday cheer! \n\nDon't miss out on this festive fun!
X-ALT-DESC;FMTTYPE=text/html:<p align="center" style="margin: 0px\; padding: 0px\; text-align: center\;"><strong><span style="font-size:20px\;"><span style="color: rgb(8\, 8\, 9)\;">Join us for our ANNUAL Santa Pictures!&nbsp\;</span></span></strong></p>\n\n<p align="center" style="margin: 0px\; padding: 0px\; text-align: center\;"><span style="font-size:20px\;"><span style="color: rgb(8\, 8\, 9)\;">Capture the magic of the season with a special photo session by Steph and Chris Photography! &nbsp\;Enjoy delicious food hosted by Millers BBQ\, and we&#39\;ve got some festive beer for the adults!&nbsp\; Bring your family and friends for a day filled with holiday cheer!&nbsp\;</span></span></p>\n\n<p align="center" style="margin: 0px\; padding: 0px\; text-align: center\;"><span style="font-size:20px\;"><span style="color: rgb(8\, 8\, 9)\;">Don&#39\;t miss out on this festive fun!</span></span></p>\n\n<p align="center" style="margin: 0px\; padding: 0px\; text-align: center\;">&nbsp\;</p>\n
LOCATION:Cochran\, Blair & Potts 221 E. Central Ave Belton
UID:e.300.18083
SEQUENCE:3
DTSTAMP:20260422T025457Z
URL:https://business.beltonchamber.com/events/details/cochran-blair-potts-photos-with-santa-18083
END:VEVENT

END:VCALENDAR
