BEGIN:VCALENDAR
VERSION:2.0
PRODID:-//ChamberMaster//Event Calendar 2.0//EN
METHOD:PUBLISH
X-PUBLISHED-TTL:P3D
REFRESH-INTERVAL:P3D
CALSCALE:GREGORIAN
BEGIN:VEVENT
DTSTART:20191023T003000Z
DTEND:20191023T020000Z
X-MICROSOFT-CDO-ALLDAYEVENT:FALSE
SUMMARY:Concert Choir & UMHB Women's Chorus in Concert
DESCRIPTION:Concert Choir is open to all students by audition. Repertoire encompasses mixed-voice literature from a variety of historical periods\, with special emphasis on the great 'a cappella' tradition. As ambassadors for the college\, the choir regularly tours from coast to coast. Directed by Dr. Michelle Dr. Rouech .\n\nUniversity Women's Chorus is a newly formed ensemble comprised entirely of women's voices. Directed by Matt Crosby.
X-ALT-DESC;FMTTYPE=text/html:<p class="description" style="box-sizing: border-box\; margin: 0px 0px 1em\; padding: 0px\; line-height: 1.8\; color: rgb(55\, 71\, 79)\; font-family: Merriweather\, helvetica\, arial\, sans-serif\; font-size: 14px\;">Concert Choir is open to all students by audition. Repertoire encompasses mixed-voice literature from a variety of historical periods\, with special emphasis on the great &#39\;a cappella&#39\; tradition. As ambassadors for the college\, the choir regularly tours from coast to coast. Directed by Dr. Michelle Dr. Rouech&eacute\;.</p>\n\n<p class="description" style="box-sizing: border-box\; margin: 0px 0px 1em\; padding: 0px\; line-height: 1.8\; color: rgb(55\, 71\, 79)\; font-family: Merriweather\, helvetica\, arial\, sans-serif\; font-size: 14px\;">University Women&#39\;s Chorus is a newly formed ensemble comprised entirely of women&#39\;s voices. Directed by Matt Crosby.</p>\n
LOCATION:Baugh Performance Hall Sue & Frank Mayborn Performing Arts Center 810 Main St Belton\, TX 76513
UID:e.300.15161
SEQUENCE:3
DTSTAMP:20260422T152812Z
URL:https://business.beltonchamber.com/events/details/concert-choir-umhb-women-s-chorus-in-concert-15161
END:VEVENT

END:VCALENDAR
