BEGIN:VCALENDAR
VERSION:2.0
PRODID:-//ChamberMaster//Event Calendar 2.0//EN
METHOD:PUBLISH
X-PUBLISHED-TTL:P3D
REFRESH-INTERVAL:P3D
CALSCALE:GREGORIAN
BEGIN:VEVENT
DTSTART:20191025T230000Z
DTEND:20191026T030000Z
X-MICROSOFT-CDO-ALLDAYEVENT:FALSE
SUMMARY:Costume Contest - Dead Fish Grill
DESCRIPTION:Halloween costume contest for the restaurant and public with DJ Instagater
X-ALT-DESC;FMTTYPE=text/html:<span style="color:#1F497D\;"><span style="font-family:calibri\,sans-serif\;"><span style="font-size:11.0pt\;">Halloween costume contest for the restaurant and public with DJ Instagater</span></span></span>
LOCATION:Dead Fish Grill 2207 Lake Road Belton\, TX 76513
UID:e.300.15157
SEQUENCE:3
DTSTAMP:20260422T152241Z
URL:https://business.beltonchamber.com/events/details/costume-contest-dead-fish-grill-15157
END:VEVENT

END:VCALENDAR
