BEGIN:VCALENDAR
VERSION:2.0
PRODID:-//ChamberMaster//Event Calendar 2.0//EN
METHOD:PUBLISH
X-PUBLISHED-TTL:P3D
REFRESH-INTERVAL:P3D
CALSCALE:GREGORIAN
BEGIN:VEVENT
DTSTART:20191025T163000Z
DTEND:20191025T220000Z
X-MICROSOFT-CDO-ALLDAYEVENT:FALSE
SUMMARY:Dead Fish Veterans Lunch Gathering
DESCRIPTION:If you are Army\, Navy\, Airforce\, Marins\, Coast Guard\, and have ever helped protect our country come to connect with others who have done the same at Dead Fish Grills Veteran Lunch. Veterans will be given the option of choosing a discounted meal from a special menu or 10% of the regular menu.
X-ALT-DESC;FMTTYPE=text/html:&nbsp\;If you are Army\, Navy\, Airforce\, Marins\, Coast Guard\, and have ever helped protect our country come to connect with others who have done the same at Dead Fish Grills Veteran Lunch. Veterans will be given the option of choosing a discounted meal from a special menu or 10% of the regular menu.
LOCATION:2207 Lake Rd\, Belton\, TX 76513 Dead Fish Grill
UID:e.300.14303
SEQUENCE:3
DTSTAMP:20260422T152358Z
URL:https://business.beltonchamber.com/events/details/dead-fish-veterans-lunch-gathering-10-25-2019-14303
END:VEVENT

END:VCALENDAR
