BEGIN:VCALENDAR
VERSION:2.0
PRODID:-//ChamberMaster//Event Calendar 2.0//EN
METHOD:PUBLISH
X-PUBLISHED-TTL:P3D
REFRESH-INTERVAL:P3D
CALSCALE:GREGORIAN
BEGIN:VEVENT
DTSTART:20250325T150000Z
DTEND:20250326T043000Z
X-MICROSOFT-CDO-ALLDAYEVENT:FALSE
SUMMARY:Delta Program Reverse Job Fair
DESCRIPTION:A new kind of career fair - A reverse career fair. \n\nJob seekers create displays and presentations that showcase their talents. \n\nEmployers then can circulate among the booths and introduce themselves to the job seekers whose skills and abilities meet their needs.
X-ALT-DESC;FMTTYPE=text/html:<strong><span style="font-size:18px\;">A new kind of career fair - A reverse career fair.&nbsp\;<br />\nJob seekers create displays and presentations that showcase their talents.&nbsp\;<br />\nEmployers then can circulate among the booths and introduce themselves to the job seekers whose skills and abilities meet their needs.&nbsp\;</span></strong>
LOCATION:Harris Community Center 401 N. Alexander Street Belton\, TX 76513
UID:e.300.18190
SEQUENCE:3
DTSTAMP:20260421T211025Z
URL:https://business.beltonchamber.com/events/details/delta-program-reverse-job-fair-18190
END:VEVENT

END:VCALENDAR
