BEGIN:VCALENDAR
VERSION:2.0
PRODID:-//ChamberMaster//Event Calendar 2.0//EN
METHOD:PUBLISH
X-PUBLISHED-TTL:P3D
REFRESH-INTERVAL:P3D
CALSCALE:GREGORIAN
BEGIN:VEVENT
DTSTART:20250404T000000Z
DTEND:20250404T030000Z
X-MICROSOFT-CDO-ALLDAYEVENT:FALSE
SUMMARY:Dj Chuck at Level 3
DESCRIPTION:Tell me you know how to #karaoke without telling me you know how to #karaoke!\n\n\n\nOnly at Level 3 bring your friends and sing your heart out!
X-ALT-DESC;FMTTYPE=text/html:<span style="font-size:20px\;"><span style="color: rgb(8\, 8\, 9)\; font-family: &quot\;Segoe UI Historic&quot\;\, &quot\;Segoe UI&quot\;\, Helvetica\, Arial\, sans-serif\;">Tell me you know how to #karaoke without telling me you know how to&nbsp\;</span><a attributionsrc="/privacy_sandbox/comet/register/source/?xt=AZV3DH0kjoqbcPos29RXyt_hxQ4DGkQ76YHvH-gOWPubvZXySUwJ_FOaHa6w9Jx5DnwSDrO68US-azHmNEVzqxBMoew_Rst3f7hIYbBYtvKgZ_1o76sQv48wL0xs891hyMwcdpet4ONslhXUQWkoxI4Ol7x_pMuTwnjojPlPsxpTbTIKFcpZtaD8WSokWkgU7UjSXUXfVjsfrBQh9wnhDUqIu35cWbLkSJxJtUhHALjacP4oVLkov4SoYAniga3fCsWrlsRtmh4A7YQX__Fq5GNj0d5XC7kMugAqY35bbbmkiBAol2ni4xT3oGDKeEuEFcuwdkbr-BM9jF6OW9FeU2NSJM-bwDiS5k5Araz3tFpDaMYjExn0GYy1XgCzXdpOGn6fNXJ7vEJKG52Kh7zoQAayb4rkapornAzEdlVdUwg28rpFYJq8We5F6yhgiiyHNkxu3t_vfTBMLhA0pho4YMp_ROfQ42_3UWmQaqefxfLwWkMyP_tBn68F0gFjmH8AtCFQ4RGnJd72pSjPCtV-lSGG5Z115JkwEjvztZ0ffWn0PZuQHHQZBhbJ_aJA1BkqNJ9tCQXVX2-S5k_oXSKIWH3RVcsFSsXAQJ7f5h-egUYlir0kb3RenL2f7ZukhPXxwRhdmftadS6w9yACEv3t5jCn0oVro5cL4tBLo4qph0kY20YYKh3b1fMgaS6W7J21jX_RZzoH4K71pXxOQufFCu76z04Di4ZLjUu_QW2pH_5euGnQmyWA9AdqtqUAI_KPq16FoOm0iyiTiOoiO75ULsRPTT_Qlj5S_p5BCYMXovrB4lE4LU0us0KDc9n8nNnbjYe35J8FmBASHQmdf9QqZctCRdKr_ngSDUvBy4LKCzAa7g" class="x1i10hfl xjbqb8w x1ejq31n xd10rxx x1sy0etr x17r0tee x972fbf xcfux6l x1qhh985 xm0m39n x9f619 x1ypdohk xt0psk2 xe8uvvx xdj266r x11i5rnm xat24cr x1mh8g0r xexx8yu x4uap5 x18d9i69 xkhd6sd x16tdsg8 x1hl2dhg xggy1nq x1a2a7pz xkrqix3 x1sur9pj xzsf02u x1s688f" href="https://www.facebook.com/hashtag/karaoke?__eep__=6&amp\;__cft__[0]=AZVX7o6mKq9O0OQYt4GSeTUg2k0PwDzxgCRDcm6os-jmAb9PU96XAoDgw7Axz8RVCTsZvo-44TZEahnh-RCHcbFlltf8hpInB4WgbDc3NeaiCs3Yfma00VxT25r-hmDMV5ZXvZoTbXgtgvui8wkjonIu&amp\;__tn__=q" role="link" style="color: var(--primary-text)\; cursor: pointer\; text-decoration-line: none\; list-style: none\; margin: 0px\; border-style: none\; padding: 0px\; box-sizing: border-box\; border-width: 0px\; outline: none\; -webkit-tap-highlight-color: transparent\; font-weight: 600\; touch-action: manipulation\; display: inline\; font-family: &quot\;Segoe UI Historic&quot\;\, &quot\;Segoe UI&quot\;\, Helvetica\, Arial\, sans-serif\; font-size: 15px\;" tabindex="0">#karaoke</a><span style="color: rgb(8\, 8\, 9)\; font-family: &quot\;Segoe UI Historic&quot\;\, &quot\;Segoe UI&quot\;\, Helvetica\, Arial\, sans-serif\;">!</span><br />\n<br />\n<span style="color: rgb(8\, 8\, 9)\; font-family: &quot\;Segoe UI Historic&quot\;\, &quot\;Segoe UI&quot\;\, Helvetica\, Arial\, sans-serif\;">Only at Level 3 bring your friends and sing your heart out!</span></span>
LOCATION:202 E. Central Ave Belton\, TX 76513
UID:e.300.18236
SEQUENCE:3
DTSTAMP:20260421T213639Z
URL:https://business.beltonchamber.com/events/details/dj-chuck-at-level-3-18236
END:VEVENT

END:VCALENDAR
