BEGIN:VCALENDAR
VERSION:2.0
PRODID:-//ChamberMaster//Event Calendar 2.0//EN
METHOD:PUBLISH
X-PUBLISHED-TTL:P3D
REFRESH-INTERVAL:P3D
CALSCALE:GREGORIAN
BEGIN:VEVENT
DTSTART:20250329T000000Z
DTEND:20250329T040000Z
X-MICROSOFT-CDO-ALLDAYEVENT:FALSE
SUMMARY:DJ Sammy G At Level 3
DESCRIPTION:Sammy G is bringing the beats to Level 3 in Belton! Enjoy an awesome Friday night of music\, food\, and drinks-everything you need for the perfect party!
X-ALT-DESC;FMTTYPE=text/html:<span style="font-size:20px\;"><span style="color: rgb(8\, 8\, 9)\; font-family: &quot\;Segoe UI Historic&quot\;\, &quot\;Segoe UI&quot\;\, Helvetica\, Arial\, sans-serif\;">Sammy G is bringing the beats to Level 3 in Belton! Enjoy an awesome Friday night of music\, food\, and drinks-everything you need for the perfect party!</span></span>
LOCATION:Level 3 202 E. Central Ave Belton\, TX 76513
UID:e.300.18195
SEQUENCE:3
DTSTAMP:20260421T211809Z
URL:https://business.beltonchamber.com/events/details/dj-sammy-g-at-level-3-18195
END:VEVENT

END:VCALENDAR
