BEGIN:VCALENDAR
VERSION:2.0
PRODID:-//ChamberMaster//Event Calendar 2.0//EN
METHOD:PUBLISH
X-PUBLISHED-TTL:P3D
REFRESH-INTERVAL:P3D
CALSCALE:GREGORIAN
BEGIN:VEVENT
DTSTART:20250419T170000Z
DTEND:20250419T190000Z
X-MICROSOFT-CDO-ALLDAYEVENT:FALSE
SUMMARY:Easter Egg Crawl
DESCRIPTION:Grab your basket! Join us for a day of fun\, laughter\, and adventure as we celebrate the season together through the heart of downtown Belton. \n\n\n\n*Event by H2 Realty*
X-ALT-DESC;FMTTYPE=text/html:<span style="font-size:20px\;">Grab your basket! Join us for a day of fun\, laughter\, and adventure as we celebrate the season together through the heart of downtown Belton.&nbsp\;<br />\n<br />\n*Event by H2 Realty*&nbsp\;</span>
LOCATION:Downtown Belton
UID:e.300.18242
SEQUENCE:3
DTSTAMP:20260421T201207Z
URL:https://business.beltonchamber.com/events/details/easter-egg-crawl-18242
END:VEVENT

END:VCALENDAR
