BEGIN:VCALENDAR
VERSION:2.0
PRODID:-//ChamberMaster//Event Calendar 2.0//EN
METHOD:PUBLISH
X-PUBLISHED-TTL:P3D
REFRESH-INTERVAL:P3D
CALSCALE:GREGORIAN
BEGIN:VEVENT
DTSTART:20110402T010000Z
DTEND:20110402T030000Z
X-MICROSOFT-CDO-ALLDAYEVENT:FALSE
SUMMARY:Event at Bodega Bean Coffee & Cafe
DESCRIPTION:Bodega Bean's very own acoustic performer\, Mark Durham\, will be here with some of his friends!  Come out and have a great time listening to some great music!
X-ALT-DESC;FMTTYPE=text/html:Bodega Bean's very own acoustic performer\, Mark Durham\, will be here with some of his friends!  Come out and have a great time listening to some great music!
LOCATION:Bodega Bean
UID:e.300.5304
SEQUENCE:3
DTSTAMP:20260426T041302Z
URL:https://business.beltonchamber.com/events/details/event-at-bodega-bean-coffee-cafe-04-01-2011-5304
END:VEVENT

END:VCALENDAR
