BEGIN:VCALENDAR
VERSION:2.0
PRODID:-//ChamberMaster//Event Calendar 2.0//EN
METHOD:PUBLISH
X-PUBLISHED-TTL:P3D
REFRESH-INTERVAL:P3D
CALSCALE:GREGORIAN
BEGIN:VEVENT
DTSTART:20110430T010000Z
DTEND:20110430T030000Z
X-MICROSOFT-CDO-ALLDAYEVENT:FALSE
SUMMARY:Event at Bodega Bean Coffee & Cafe
DESCRIPTION:Joe Stento\n\nNew and used acoustic classic rock
X-ALT-DESC;FMTTYPE=text/html:Joe Stento\n<br>New and used acoustic classic rock
LOCATION:Bodega Bean Coffee and Cafe
UID:e.300.5335
SEQUENCE:3
DTSTAMP:20260425T225843Z
URL:https://business.beltonchamber.com/events/details/event-at-bodega-bean-coffee-cafe-04-29-2011-5335
END:VEVENT

END:VCALENDAR
