BEGIN:VCALENDAR
VERSION:2.0
PRODID:-//ChamberMaster//Event Calendar 2.0//EN
METHOD:PUBLISH
X-PUBLISHED-TTL:P3D
REFRESH-INTERVAL:P3D
CALSCALE:GREGORIAN
BEGIN:VEVENT
DTSTART:20110605T010000Z
DTEND:20110605T030000Z
X-MICROSOFT-CDO-ALLDAYEVENT:FALSE
SUMMARY:Event at Bodega Bean Coffee & Cafe
DESCRIPTION:Garrett Pekar is back with us again!!!  Come listen to some good music in good company!
X-ALT-DESC;FMTTYPE=text/html:Garrett Pekar is back with us again!!!&nbsp\; Come listen to some good music in good company!
LOCATION:102 Water Street Downtown Belton\, TX
UID:e.300.5541
SEQUENCE:3
DTSTAMP:20260422T071223Z
URL:https://business.beltonchamber.com/events/details/event-at-bodega-bean-coffee-cafe-06-04-2011-5541
END:VEVENT

END:VCALENDAR
