BEGIN:VCALENDAR
VERSION:2.0
PRODID:-//ChamberMaster//Event Calendar 2.0//EN
METHOD:PUBLISH
X-PUBLISHED-TTL:P3D
REFRESH-INTERVAL:P3D
CALSCALE:GREGORIAN
BEGIN:VEVENT
DTSTART:20200218T233000Z
DTEND:20200219T003000Z
X-MICROSOFT-CDO-ALLDAYEVENT:FALSE
SUMMARY:Extraco Banks' Bank & Brews
DESCRIPTION:Join Extraco Banks workshop on How to Hire the Right Employees.  Extraco's HR Team will be on hand to offer guidance.
X-ALT-DESC;FMTTYPE=text/html:Join Extraco Banks workshop on How to Hire the Right Employees.&nbsp\; Extraco&#39\;s HR Team will be on hand to offer guidance.
LOCATION:127 Lake Road\, 2nd Floor Belton\, Texas
UID:e.300.15360
SEQUENCE:3
DTSTAMP:20260422T101658Z
URL:https://business.beltonchamber.com/events/details/extraco-banks-bank-brews-15360
END:VEVENT

END:VCALENDAR
