BEGIN:VCALENDAR
VERSION:2.0
PRODID:-//ChamberMaster//Event Calendar 2.0//EN
METHOD:PUBLISH
X-PUBLISHED-TTL:P3D
REFRESH-INTERVAL:P3D
CALSCALE:GREGORIAN
BEGIN:VEVENT
DTSTART:20201017T160000Z
DTEND:20201017T200000Z
X-MICROSOFT-CDO-ALLDAYEVENT:FALSE
SUMMARY:Fall Food Truck Festival
DESCRIPTION:Amy's Attic invite you to their Fall Food Truck Festival\, featuring a food truck/ vendor competition offering the best of Texas\, unique vendors for your shopping delight\, kids' games and costume contest\, and so much more on October 17th from 11-3 at 3524 FM 2484\, Salado\, TX 76571.  Proceeds benefit the Salado Volunteer Fire Department and they will be present with their fire engine and equipment so that we can see our heroes up close!  Included and attached is the press release for Amy's Attic's Fall Food Truck Festival.\n\n \n\nFacebook Event:  https://www.facebook.com/events/319139522392567
X-ALT-DESC;FMTTYPE=text/html:Amy&#39\;s Attic invite you to their Fall Food Truck Festival\, featuring a food truck/ vendor competition offering the best of Texas\, unique vendors for your shopping delight\, kids&#39\; games and costume contest\, and so much more on October 17th from 11-3 at 3524 FM 2484\, Salado\, TX 76571.&nbsp\; Proceeds benefit the Salado Volunteer Fire Department and they will be present with their fire engine and equipment so that we can see our heroes up close!&nbsp\; Included and attached is the press release for Amy&#39\;s Attic&#39\;s Fall Food Truck Festival.<br />\n&nbsp\;<br />\nFacebook Event:&nbsp\;&nbsp\;<a href="https://www.facebook.com/events/319139522392567">https://www.facebook.com/events/319139522392567</a>
LOCATION:3524 FM 2484 Salado\, Texas
UID:e.300.15416
SEQUENCE:3
DTSTAMP:20260421T231944Z
URL:https://business.beltonchamber.com/events/details/fall-food-truck-festival-15416
END:VEVENT

END:VCALENDAR
