BEGIN:VCALENDAR
VERSION:2.0
PRODID:-//ChamberMaster//Event Calendar 2.0//EN
METHOD:PUBLISH
X-PUBLISHED-TTL:P3D
REFRESH-INTERVAL:P3D
CALSCALE:GREGORIAN
BEGIN:VEVENT
DTSTART:20250422T160000Z
DTEND:20250422T170000Z
X-MICROSOFT-CDO-ALLDAYEVENT:FALSE
SUMMARY:Freedom Urgent Care - Ribbon Cutting
DESCRIPTION:Join us for a ribbon cutting celebrating Freedom Urgent Cares new Temple location!
X-ALT-DESC;FMTTYPE=text/html:<strong><span style="font-family:times new roman\;"><span style="font-size:20px\;">Join us for a ribbon cutting celebrating Freedom Urgent Cares new Temple location!&nbsp\;</span></span></strong>
LOCATION:4901 S 31st St Ste. 110\, Temple\, TX 76502
UID:e.300.18389
SEQUENCE:3
DTSTAMP:20260422T152431Z
URL:https://business.beltonchamber.com/events/details/freedom-urgent-care-ribbon-cutting-18389
END:VEVENT

END:VCALENDAR
